BEGIN:VCALENDAR
VERSION:2.0
PRODID:-//hacksw/handcal//NONSGML v1.0//EN
BEGIN:VEVENT
SUMMARY:Octobre Rose
UID:64362424-fcff-4781-9e55-9ef7a36dc80a
DTSTART:20261002T220000Z
DTEND:20261004T220000Z
LOCATION:Localisation   
CATEGORIES:Caritatif
STATUS:
URL;VALUE=URI:https://www.adgeragny.fr/evenements/2026/10/03/octobre-rose-2424813
END:VEVENT
END:VCALENDAR
