BEGIN:VCALENDAR
VERSION:2.0
PRODID:-//hacksw/handcal//NONSGML v1.0//EN
BEGIN:VEVENT
SUMMARY:Nouvelle denomination federale  FFSV
UID:ff4dc6e9-e269-4ca5-b94b-921d636609e5
DTSTART:20260323T230000Z
DTEND:20260326T230000Z
LOCATION:Localisation   
CATEGORIES:Administratif
STATUS:
DESCRIPTION:<p>Suite AG extraordinaire en distantiel avec votes entre
 le 24 et le 26 mars 2026, concerne la validation du changement de
 denomination federal FFEPGV deviendra, si vote favorable, 
 FFSV <span style="font-size:12pt;"><span><span
 style="font-family:Aptos, sans-serif;">La Federation Francaise de
 Sport Vitalite par l’Education Physique et la Gymnastique
 Volontaire »</span></span></span><br>
  </p>
URL;VALUE=URI:https://www.adgeragny.fr/evenements/2026/03/24/nouvelle-denomination-federale-ffsv-2432449
END:VEVENT
BEGIN:VEVENT
SUMMARY:2eme sortie Parisienne quartier Pernety et d'Alesia jusqu'au parc Montsouris.
UID:60cee758-44ac-4c5c-86c2-5cdf19a8b66d
DTSTART:20260411T081500Z
DTEND:20260411T163000Z
LOCATION:Localisation   
CATEGORIES:Manifestation
STATUS:
URL;VALUE=URI:https://www.adgeragny.fr/evenements/2026/04/11/2eme-sortie-parisienne-quartier-pernety-et-dalesia-jusquau-parc-montsouris-2429182
END:VEVENT
END:VCALENDAR
